BEGIN:VCALENDAR
VERSION:2.0
PRODID:-//Timeless Concerts - ECPv6.15.18//NONSGML v1.0//EN
CALSCALE:GREGORIAN
METHOD:PUBLISH
X-WR-CALNAME:Timeless Concerts
X-ORIGINAL-URL:https://timelessconcerts.com
X-WR-CALDESC:Events for Timeless Concerts
REFRESH-INTERVAL;VALUE=DURATION:PT1H
X-Robots-Tag:noindex
X-PUBLISHED-TTL:PT1H
BEGIN:VTIMEZONE
TZID:UTC
BEGIN:STANDARD
TZOFFSETFROM:+0000
TZOFFSETTO:+0000
TZNAME:UTC
DTSTART:20230101T000000
END:STANDARD
END:VTIMEZONE
BEGIN:VEVENT
DTSTART;TZID=UTC:20240713T200000
DTEND;TZID=UTC:20240713T200000
DTSTAMP:20260422T135721
CREATED:20231125T005943Z
LAST-MODIFIED:20240610T195701Z
UID:1429-1720900800-1720900800@timelessconcerts.com
SUMMARY:Made in America!
DESCRIPTION:We will celebrate the great American composer\, George Gershwin\, as we perform our version of his “Rhapsody in Blue.” Our vocalists will select songs from Gershwin\, Leonard Bernstein\, and some lesser known USA composers. Being July\, it is also the right time to play  “Summer” from Vivaldi’s Four Seasons with Tim Angel\, solo violinist. Performers: violinists Tim Angel\, LeeAnne Chenoweth\, cellist Alice JeongA Lee\, pianist Heejung Kang\, soprano Youna Hartgraves\, and tenor Sergio Cepeda. Post-concert pianist Erik Barnes (Hickman Center only) will take your requests to make the party special! As always\, we provide complimentary wine/soft drinks/snacks. Although BYOB is allowed at the Hickman\, bottles must be left with the bartender for pouring. \nTable seating for 2 up to 12. \nReservations are needed early for larger groups\, as we cannot guarantee we can fit late ticket buyers into previously reserved groups. \nPurchase your tickets here: https://buy.ticketstothecity.com/purchase.php?date_id=55085
URL:https://timelessconcerts.com/event/made-in-america/
LOCATION:Holt Hickman Center\, at the Belltower Chapel\, 3712 Wichita St.\, Fort Worth\, TX\, 76119\, United States
CATEGORIES:Concert
ORGANIZER;CN="Timeless Concerts":MAILTO:info@timelessconcerts.com
END:VEVENT
BEGIN:VEVENT
DTSTART;TZID=UTC:20240720T200000
DTEND;TZID=UTC:20240720T200000
DTSTAMP:20260422T135721
CREATED:20231125T010008Z
LAST-MODIFIED:20240610T195656Z
UID:1430-1721505600-1721505600@timelessconcerts.com
SUMMARY:Made in America!
DESCRIPTION:We will celebrate the great American composer\, George Gershwin\, as we perform our version of his “Rhapsody in Blue.” Our vocalists will select songs from Gershwin\, Leonard Bernstein\, and some lesser known USA composers. Being July\, it is also the right time to play  “Summer” from Vivaldi’s Four Seasons with Tim Angel\, solo violinist. Performers: violinists Tim Angel\, LeeAnne Chenoweth\, cellist Alice JeongA Lee\, pianist Heejung Kang\, soprano Youna Hartgraves\, and tenor Sergio Cepeda. As always\, we provide complimentary wine/soft drinks/snacks. \nRiver Legacy is our smaller location with only 80 seats\, recital style\, so don’t delay in getting your tickets! \nPurchase your tickets here: https://buy.ticketstothecity.com/purchase.php?date_id=55086
URL:https://timelessconcerts.com/event/made-in-america-2/
LOCATION:River Legacy Living Science Center\, 703 NW Green Oaks Blvd\, Arlington\, Texas\, 76006\, United States
CATEGORIES:Concert
ORGANIZER;CN="Timeless Concerts":MAILTO:info@timelessconcerts.com
END:VEVENT
END:VCALENDAR