BEGIN:VCALENDAR
VERSION:2.0
PRODID:-//Timeless Concerts - ECPv6.15.18//NONSGML v1.0//EN
CALSCALE:GREGORIAN
METHOD:PUBLISH
X-ORIGINAL-URL:https://timelessconcerts.com
X-WR-CALDESC:Events for Timeless Concerts
REFRESH-INTERVAL;VALUE=DURATION:PT1H
X-Robots-Tag:noindex
X-PUBLISHED-TTL:PT1H
BEGIN:VTIMEZONE
TZID:UTC
BEGIN:STANDARD
TZOFFSETFROM:+0000
TZOFFSETTO:+0000
TZNAME:UTC
DTSTART:20240101T000000
END:STANDARD
END:VTIMEZONE
BEGIN:VEVENT
DTSTART;TZID=UTC:20251115T200000
DTEND;TZID=UTC:20251115T200000
DTSTAMP:20260422T064335
CREATED:20250718T191942Z
LAST-MODIFIED:20250923T164947Z
UID:1761-1763236800-1763236800@timelessconcerts.com
SUMMARY:Evening in Germany and Austria
DESCRIPTION:From Bach (his violin concerto in E)\,and a bit of Mozart\, to passionate romantic songs of Richard Strauss\, Schubert and more\, rounding out the evening with a few works of living composer Hans Zimmer! Violinists LeeAnne Chenoweth and Keyreel Raskolenko\, cellist Alice JeongA Lee\, pianist Heejung Kang\, soprano Youna Hartgraves\, and tenor Sergio Cepeda. As always\, we provide complimentary wine/soft drinks/snacks\, table seating of various sizes. Please stay and mingle after the concert! Post-concert party pianist\, Simon Petty. \n\n\n\n\n\n\n\n\n\n\n\n\n\n\n\n\n\n\n\n\n\n\nCollege students and teachers K-12 at $15\nGeneral at $40\nSeniors at $35\nTable for 2 $97\nTable for 10 $325\nYouths ages 11 through seniors in high school may attend for free\, but we must be notified to reserve the seats.\n\n\n\n\n\n\n\n\n\n\n\n\n\n\n\n\n\n\n\n\n\n\nPurchase Your Tickets Today: https://buy.ticketstothecity.com/purchase.php?event_id=17524
URL:https://timelessconcerts.com/event/evening-in-germany-2/
LOCATION:Holt Hickman Center\, at the Belltower Chapel\, 3712 Wichita St.\, Fort Worth\, TX\, 76119\, United States
CATEGORIES:Concert
ORGANIZER;CN="Timeless Concerts":MAILTO:info@timelessconcerts.com
END:VEVENT
END:VCALENDAR