BEGIN:VCALENDAR
VERSION:2.0
PRODID:-//Timeless Concerts - ECPv6.15.18//NONSGML v1.0//EN
CALSCALE:GREGORIAN
METHOD:PUBLISH
X-ORIGINAL-URL:https://timelessconcerts.com
X-WR-CALDESC:Events for Timeless Concerts
REFRESH-INTERVAL;VALUE=DURATION:PT1H
X-Robots-Tag:noindex
X-PUBLISHED-TTL:PT1H
BEGIN:VTIMEZONE
TZID:UTC
BEGIN:STANDARD
TZOFFSETFROM:+0000
TZOFFSETTO:+0000
TZNAME:UTC
DTSTART:20230101T000000
END:STANDARD
END:VTIMEZONE
BEGIN:VEVENT
DTSTART;TZID=UTC:20240907T200000
DTEND;TZID=UTC:20240907T200000
DTSTAMP:20260420T102638
CREATED:20240430T015126Z
LAST-MODIFIED:20240716T175507Z
UID:1507-1725739200-1725739200@timelessconcerts.com
SUMMARY:Music of the Spanish Language!
DESCRIPTION:Music of the Spanish Language” will include instrumental and vocal music of Spanish composer Joaquin Turina\, as well as composers from Mexico and South American countries\, such as tango master musician Astor Piazzolla\, Enrique Granados\, Agustin Lara\, and more. Tenor Sergio Cepeda will sing songs of classic Mexico. Performers: violinist  LeeAnne Chenoweth\, cellist Alice Jeong-A Lee\, pianist Heejung Kang\, soprano Youna Hartgraves\, and tenor Sergio Cepeda. Post-concert pianist Simon Petty (Hickman Center only) will take your requests to make the party memorable! As always\, we provide complimentary wine/soft drinks/snacks. There are only 75 seats at this location! Recital-style seating. \nRegister today!
URL:https://timelessconcerts.com/event/music-of-the-spanish-language-3/
LOCATION:River Legacy Living Science Center\, 703 NW Green Oaks Blvd\, Arlington\, Texas\, 76006\, United States
CATEGORIES:Concert
ORGANIZER;CN="Timeless Concerts":MAILTO:info@timelessconcerts.com
END:VEVENT
END:VCALENDAR